BEGIN:VCALENDAR
VERSION:2.0
PRODID:SchoolNow
CALSCALE:GREGORIAN
BEGIN:VEVENT
UID:cd049f38-fd70-11f0-b7f5-0a58a9feac02
DTSTAMP:20260421T150525Z
SUMMARY:Town Wide Winter Concert
URL;VALUE=URI:https://www.littletonps.org/high-school/calendar/8846756/town
 -wide-winter-concert
DTSTART:20260211T233000Z
DTEND:20260212T003000Z
END:VEVENT
END:VCALENDAR
