BEGIN:VCALENDAR
VERSION:2.0
PRODID:SchoolNow
CALSCALE:GREGORIAN
BEGIN:VEVENT
UID:adc09a4c-ec1c-11f0-84fd-0a58a9feac02
DTSTAMP:20260421T090029Z
SUMMARY:PALS Talent Show
URL;VALUE=URI:https://www.littletonps.org/high-school/calendar/8832567/pals
 -talent-show
DTSTART:20260409T220000Z
DTEND:20260410T000000Z
END:VEVENT
END:VCALENDAR
