BEGIN:VCALENDAR
VERSION:2.0
PRODID:SchoolNow
CALSCALE:GREGORIAN
BEGIN:VEVENT
UID:dbb0b66c-e820-11f0-ad72-0a58a9feac02
DTSTAMP:20260421T090029Z
SUMMARY:MCAS Testing Mathematics Grade 10
URL;VALUE=URI:https://www.littletonps.org/high-school/calendar/8828394/mcas
 -testing-mathematics-grade-10
DTSTART:20260520T120500Z
DTEND:20260520T183500Z
END:VEVENT
END:VCALENDAR
