BEGIN:VCALENDAR
VERSION:2.0
PRODID:SchoolNow
CALSCALE:GREGORIAN
BEGIN:VEVENT
UID:dbb0b40a-e820-11f0-8b71-0a58a9feac02
DTSTAMP:20260421T150525Z
SUMMARY:MCAS Testing Biology/Physics Grades 9/10
URL;VALUE=URI:https://www.littletonps.org/high-school/calendar/8828392/mcas
 -testing-biology-physics-grades-9-10
DTSTART:20260603T120500Z
DTEND:20260603T183500Z
END:VEVENT
END:VCALENDAR
