BEGIN:VCALENDAR
VERSION:2.0
PRODID:SchoolNow
CALSCALE:GREGORIAN
BEGIN:VEVENT
UID:dbb0b2c0-e820-11f0-b5b5-0a58a9feac02
DTSTAMP:20260421T090029Z
SUMMARY:8th Grade Parent Course Selection Night
URL;VALUE=URI:https://www.littletonps.org/high-school/calendar/8828391/8th-
 grade-parent-course-selection-night
DTSTART:20260309T220000Z
DTEND:20260309T231500Z
END:VEVENT
END:VCALENDAR
