BEGIN:VCALENDAR
VERSION:2.0
PRODID:SchoolNow
CALSCALE:GREGORIAN
BEGIN:VEVENT
UID:dbb0b11c-e820-11f0-b02a-0a58a9feac02
DTSTAMP:20260421T090029Z
SUMMARY:MCAS Testing ELA Grade 10
URL;VALUE=URI:https://www.littletonps.org/high-school/calendar/8828389/mcas
 -testing-ela-grade-10
DTSTART:20260324T120500Z
DTEND:20260324T183500Z
END:VEVENT
END:VCALENDAR
