BEGIN:VCALENDAR
VERSION:2.0
PRODID:SchoolNow
CALSCALE:GREGORIAN
BEGIN:VEVENT
UID:dbb0afe6-e820-11f0-885a-0a58a9feac02
DTSTAMP:20260421T090029Z
SUMMARY:Parent-Teacher Conferences
URL;VALUE=URI:https://www.littletonps.org/high-school/calendar/8828388/pare
 nt-teacher-conferences
DTSTART;VALUE=DATE:20260313
DTEND;VALUE=DATE:20260314
END:VEVENT
END:VCALENDAR
