BEGIN:VCALENDAR
VERSION:2.0
PRODID:SchoolNow
CALSCALE:GREGORIAN
BEGIN:VEVENT
UID:76a1cee4-dc60-11f0-ae3f-0edb5937194f
DTSTAMP:20260421T090029Z
SUMMARY:Early Release - PD 11:35 am
URL;VALUE=URI:https://www.littletonps.org/high-school/calendar/8825979/earl
 y-release-pd-11-35-am
DTSTART;VALUE=DATE:20260403
DTEND;VALUE=DATE:20260404
END:VEVENT
END:VCALENDAR
