BEGIN:VCALENDAR
VERSION:2.0
PRODID:SchoolNow
CALSCALE:GREGORIAN
BEGIN:VEVENT
UID:dfe36016-d765-11f0-9fb0-0a58a9feac02
DTSTAMP:20260421T090029Z
SUMMARY:Financial Literacy Fair @ LHS Gym
URL;VALUE=URI:https://www.littletonps.org/high-school/calendar/8822791/fina
 ncial-literacy-fair-lhs-gym
DTSTART:20260521T120000Z
DTEND:20260521T163000Z
END:VEVENT
END:VCALENDAR
