BEGIN:VCALENDAR
VERSION:2.0
PRODID:SchoolNow
CALSCALE:GREGORIAN
BEGIN:VEVENT
UID:fa73ef3e-d6cc-11f0-a778-0a58a9feac02
DTSTAMP:20260421T090029Z
SUMMARY:LHS Spring Musical - "Mamma Mia"
URL;VALUE=URI:https://www.littletonps.org/high-school/calendar/8822227/lhs-
 spring-musical-mamma-mia
DTSTART:20260328T230000Z
DTEND:20260329T010000Z
END:VEVENT
END:VCALENDAR
