BEGIN:VCALENDAR
VERSION:2.0
PRODID:SchoolNow
CALSCALE:GREGORIAN
BEGIN:VEVENT
UID:fa73edd6-d6cc-11f0-b753-0a58a9feac02
DTSTAMP:20260423T033523Z
SUMMARY:LHS Spring Musical - "Mamma Mia"
URL;VALUE=URI:https://www.littletonps.org/high-school/calendar/8822226/lhs-
 spring-musical-mamma-mia
DTSTART:20260329T170000Z
DTEND:20260329T190000Z
END:VEVENT
END:VCALENDAR
