BEGIN:VCALENDAR
VERSION:2.0
PRODID:SchoolNow
CALSCALE:GREGORIAN
BEGIN:VEVENT
UID:fa73ea48-d6cc-11f0-b709-0a58a9feac02
DTSTAMP:20260421T090029Z
SUMMARY:LHS Spring Musical - "Mamma Mia"
URL;VALUE=URI:https://www.littletonps.org/high-school/calendar/8822225/lhs-
 spring-musical-mamma-mia
DTSTART:20260328T170000Z
DTEND:20260328T190000Z
END:VEVENT
END:VCALENDAR
