BEGIN:VCALENDAR
VERSION:2.0
PRODID:SchoolNow
CALSCALE:GREGORIAN
BEGIN:VEVENT
UID:ec39e226-d699-11f0-97da-0a58a9feac02
DTSTAMP:20260421T090029Z
SUMMARY:School Committee Meeting
URL;VALUE=URI:https://www.littletonps.org/high-school/calendar/8821757/scho
 ol-committee-meeting
DTSTART:20260528T230000Z
DTEND:20260529T010000Z
END:VEVENT
END:VCALENDAR
