BEGIN:VCALENDAR
VERSION:2.0
PRODID:SchoolNow
CALSCALE:GREGORIAN
BEGIN:VEVENT
UID:ec39e14a-d699-11f0-93e9-0a58a9feac02
DTSTAMP:20260421T090029Z
SUMMARY:School Committee Meeting
URL;VALUE=URI:https://www.littletonps.org/high-school/calendar/8821756/scho
 ol-committee-meeting
DTSTART:20260514T230000Z
DTEND:20260515T010000Z
END:VEVENT
END:VCALENDAR
