BEGIN:VCALENDAR
VERSION:2.0
PRODID:SchoolNow
CALSCALE:GREGORIAN
BEGIN:VEVENT
UID:ec39dea2-d699-11f0-b9da-0a58a9feac02
DTSTAMP:20260421T090029Z
SUMMARY:School Committee Meeting
URL;VALUE=URI:https://www.littletonps.org/high-school/calendar/8821753/scho
 ol-committee-meeting
DTSTART:20260312T230000Z
DTEND:20260313T010000Z
END:VEVENT
END:VCALENDAR
