BEGIN:VCALENDAR
VERSION:2.0
PRODID:SchoolNow
CALSCALE:GREGORIAN
BEGIN:VEVENT
UID:ec39ddbc-d699-11f0-96b5-0a58a9feac02
DTSTAMP:20260421T150525Z
SUMMARY:School Committee Meeting
URL;VALUE=URI:https://www.littletonps.org/high-school/calendar/8821752/scho
 ol-committee-meeting
DTSTART:20260227T000000Z
DTEND:20260227T020000Z
END:VEVENT
END:VCALENDAR
