BEGIN:VCALENDAR
VERSION:2.0
PRODID:SchoolNow
CALSCALE:GREGORIAN
BEGIN:VEVENT
UID:ec39dce0-d699-11f0-9668-0a58a9feac02
DTSTAMP:20260421T150525Z
SUMMARY:School Committee Meeting
URL;VALUE=URI:https://www.littletonps.org/high-school/calendar/8821751/scho
 ol-committee-meeting
DTSTART:20260206T000000Z
DTEND:20260206T020000Z
END:VEVENT
END:VCALENDAR
