BEGIN:VCALENDAR
VERSION:2.0
PRODID:SchoolNow
CALSCALE:GREGORIAN
BEGIN:VEVENT
UID:ec39d952-d699-11f0-ad4a-0a58a9feac02
DTSTAMP:20260421T090029Z
SUMMARY:School Committee Meeting
URL;VALUE=URI:https://www.littletonps.org/high-school/calendar/8821747/scho
 ol-committee-meeting
DTSTART:20260409T230000Z
DTEND:20260410T010000Z
END:VEVENT
END:VCALENDAR
