BEGIN:VCALENDAR
VERSION:2.0
PRODID:SchoolNow
CALSCALE:GREGORIAN
BEGIN:VEVENT
UID:ec39d862-d699-11f0-852d-0a58a9feac02
DTSTAMP:20260421T150525Z
SUMMARY:Class of 2026 Senior Trip
URL;VALUE=URI:https://www.littletonps.org/high-school/calendar/8821746/clas
 s-of-2026-senior-trip
DTSTART;VALUE=DATE:20260601
DTEND;VALUE=DATE:20260602
END:VEVENT
END:VCALENDAR
