BEGIN:VCALENDAR
VERSION:2.0
PRODID:SchoolNow
CALSCALE:GREGORIAN
BEGIN:VEVENT
UID:ec39d5a6-d699-11f0-a8c2-0a58a9feac02
DTSTAMP:20260421T090029Z
SUMMARY:AP Exams
URL;VALUE=URI:https://www.littletonps.org/high-school/calendar/8821743/ap-e
 xams
DTSTART;VALUE=DATE:20260511
DTEND;VALUE=DATE:20260516
END:VEVENT
END:VCALENDAR
