BEGIN:VCALENDAR
VERSION:2.0
PRODID:SchoolNow
CALSCALE:GREGORIAN
BEGIN:VEVENT
UID:ec39d4c0-d699-11f0-9bff-0a58a9feac02
DTSTAMP:20260421T090029Z
SUMMARY:LHS Drama-Play in a day
URL;VALUE=URI:https://www.littletonps.org/high-school/calendar/8821742/lhs-
 drama-play-in-a-day
DTSTART:20260408T190000Z
DTEND:20260409T000000Z
END:VEVENT
END:VCALENDAR
