BEGIN:VCALENDAR
VERSION:2.0
PRODID:SchoolNow
CALSCALE:GREGORIAN
BEGIN:VEVENT
UID:ec39d3d0-d699-11f0-b41a-0a58a9feac02
DTSTAMP:20260421T090029Z
SUMMARY:LHS Spring Musical - "Mamma Mia"
URL;VALUE=URI:https://www.littletonps.org/high-school/calendar/8821741/lhs-
 spring-musical-mamma-mia
DTSTART:20260327T230000Z
DTEND:20260328T010000Z
END:VEVENT
END:VCALENDAR
