BEGIN:VCALENDAR
VERSION:2.0
PRODID:SchoolNow
CALSCALE:GREGORIAN
BEGIN:VEVENT
UID:ec39d0d8-d699-11f0-a8f3-0a58a9feac02
DTSTAMP:20260423T033523Z
SUMMARY:Senior Final Exams & Projects
URL;VALUE=URI:https://www.littletonps.org/high-school/calendar/8821739/seni
 or-final-exams-projects
DTSTART;VALUE=DATE:20260526
DTEND;VALUE=DATE:20260529
END:VEVENT
END:VCALENDAR
