BEGIN:VCALENDAR
VERSION:2.0
PRODID:SchoolNow
CALSCALE:GREGORIAN
BEGIN:VEVENT
UID:ec39cc14-d699-11f0-be48-0a58a9feac02
DTSTAMP:20260421T150525Z
SUMMARY:Class of 2026 Graduation @ Alumni Field
URL;VALUE=URI:https://www.littletonps.org/high-school/calendar/8821734/clas
 s-of-2026-graduation-alumni-field
DTSTART:20260605T213000Z
DTEND:20260605T230000Z
END:VEVENT
END:VCALENDAR
