BEGIN:VCALENDAR
VERSION:2.0
PRODID:SchoolNow
CALSCALE:GREGORIAN
BEGIN:VEVENT
UID:ec39cb10-d699-11f0-89c3-0a58a9feac02
DTSTAMP:20260421T150525Z
SUMMARY:Class of 2026 Graduation Rain Date @ Alumni Field
URL;VALUE=URI:https://www.littletonps.org/high-school/calendar/8821733/clas
 s-of-2026-graduation-rain-date-alumni-field
DTSTART:20260606T143000Z
DTEND:20260606T160000Z
END:VEVENT
END:VCALENDAR
