BEGIN:VCALENDAR
VERSION:2.0
PRODID:SchoolNow
CALSCALE:GREGORIAN
BEGIN:VEVENT
UID:ec39ca02-d699-11f0-9bfd-0a58a9feac02
DTSTAMP:20260421T090029Z
SUMMARY:LHS Class of 2026 Breakfast  & Parade
URL;VALUE=URI:https://www.littletonps.org/high-school/calendar/8821732/lhs-
 class-of-2026-breakfast-parade
DTSTART:20260529T120000Z
DTEND:20260529T143000Z
END:VEVENT
END:VCALENDAR
