BEGIN:VCALENDAR
VERSION:2.0
PRODID:SchoolNow
CALSCALE:GREGORIAN
BEGIN:VEVENT
UID:ec39c8b8-d699-11f0-ac5a-0a58a9feac02
DTSTAMP:20260421T090029Z
SUMMARY:National Honor Society Blood Drive
URL;VALUE=URI:https://www.littletonps.org/high-school/calendar/8821731/nati
 onal-honor-society-blood-drive
DTSTART:20260407T123000Z
DTEND:20260407T180000Z
END:VEVENT
END:VCALENDAR
