BEGIN:VCALENDAR
VERSION:2.0
PRODID:SchoolNow
CALSCALE:GREGORIAN
BEGIN:VEVENT
UID:ec39c764-d699-11f0-b1e2-0a58a9feac02
DTSTAMP:20260421T090029Z
SUMMARY:All District PD Early-release 11:35 am
URL;VALUE=URI:https://www.littletonps.org/high-school/calendar/8821730/all-
 district-pd-early-release-11-35-am
DTSTART;VALUE=DATE:20260522
DTEND;VALUE=DATE:20260523
END:VEVENT
END:VCALENDAR
