BEGIN:VCALENDAR
VERSION:2.0
PRODID:SchoolNow
CALSCALE:GREGORIAN
BEGIN:VEVENT
UID:ec39c390-d699-11f0-adca-0a58a9feac02
DTSTAMP:20260421T090029Z
SUMMARY:P.A.L.S. / Special Olympics Mobile Polar Plunge
URL;VALUE=URI:https://www.littletonps.org/high-school/calendar/8821729/p-a-
 l-s-special-olympics-mobile-polar-plunge
DTSTART:20260328T130000Z
DTEND:20260328T160000Z
END:VEVENT
END:VCALENDAR
