BEGIN:VCALENDAR
VERSION:2.0
PRODID:SchoolNow
CALSCALE:GREGORIAN
BEGIN:VEVENT
UID:c3d80cb8-57a0-11f0-8fb8-02eb8e81d8d9
DTSTAMP:20260422T031524Z
SUMMARY:Tentative Last Day of School - District 3hr. Early Release (With 2 
 Snow Day)
URL;VALUE=URI:https://www.littletonps.org/calendar/8379082/tentative-last-d
 ay-of-school-district-3hr-early-release-with-2-snow-day
DTSTART;VALUE=DATE:20260618
DTEND;VALUE=DATE:20260619
END:VEVENT
END:VCALENDAR
