BEGIN:VCALENDAR
VERSION:2.0
PRODID:SchoolNow
CALSCALE:GREGORIAN
BEGIN:VEVENT
UID:c3d80bd2-57a0-11f0-9845-02eb8e81d8d9
DTSTAMP:20260422T031524Z
SUMMARY:All Schools Closed (Memorial Day)
URL;VALUE=URI:https://www.littletonps.org/calendar/8379081/all-schools-clos
 ed-memorial-day
DTSTART;VALUE=DATE:20260525
DTEND;VALUE=DATE:20260526
END:VEVENT
END:VCALENDAR
