BEGIN:VCALENDAR
VERSION:2.0
PRODID:SchoolNow
CALSCALE:GREGORIAN
BEGIN:VEVENT
UID:c3d80aec-57a0-11f0-b69f-02eb8e81d8d9
DTSTAMP:20260422T031524Z
SUMMARY:District 3hr. Early Release
URL;VALUE=URI:https://www.littletonps.org/calendar/8379079/district-3hr-ear
 ly-release
DTSTART;VALUE=DATE:20260522
DTEND;VALUE=DATE:20260523
END:VEVENT
END:VCALENDAR
