BEGIN:VCALENDAR
VERSION:2.0
PRODID:SchoolNow
CALSCALE:GREGORIAN
BEGIN:VEVENT
UID:c3d809d4-57a0-11f0-80ce-02eb8e81d8d9
DTSTAMP:20260422T031524Z
SUMMARY:District 3hr. Early Release
URL;VALUE=URI:https://www.littletonps.org/calendar/8379077/district-3hr-ear
 ly-release
DTSTART;VALUE=DATE:20260501
DTEND;VALUE=DATE:20260502
END:VEVENT
END:VCALENDAR
