BEGIN:VCALENDAR
VERSION:2.0
PRODID:SchoolNow
CALSCALE:GREGORIAN
BEGIN:VEVENT
UID:c3d8043e-57a0-11f0-b3d2-02eb8e81d8d9
DTSTAMP:20260421T211024Z
SUMMARY:District 3hr. Early Release
URL;VALUE=URI:https://www.littletonps.org/calendar/8379074/district-3hr-ear
 ly-release
DTSTART;VALUE=DATE:20260403
DTEND;VALUE=DATE:20260404
END:VEVENT
END:VCALENDAR
